BEGIN:VCALENDAR
VERSION:2.0
PRODID:-//VentureNet - ECPv6.15.17.1//NONSGML v1.0//EN
CALSCALE:GREGORIAN
METHOD:PUBLISH
X-WR-CALNAME:VentureNet
X-ORIGINAL-URL:https://venturenet.no
X-WR-CALDESC:Events for VentureNet
REFRESH-INTERVAL;VALUE=DURATION:PT1H
X-Robots-Tag:noindex
X-PUBLISHED-TTL:PT1H
BEGIN:VTIMEZONE
TZID:Europe/Oslo
BEGIN:DAYLIGHT
TZOFFSETFROM:+0100
TZOFFSETTO:+0200
TZNAME:CEST
DTSTART:20240331T010000
END:DAYLIGHT
BEGIN:STANDARD
TZOFFSETFROM:+0200
TZOFFSETTO:+0100
TZNAME:CET
DTSTART:20241027T010000
END:STANDARD
BEGIN:DAYLIGHT
TZOFFSETFROM:+0100
TZOFFSETTO:+0200
TZNAME:CEST
DTSTART:20250330T010000
END:DAYLIGHT
BEGIN:STANDARD
TZOFFSETFROM:+0200
TZOFFSETTO:+0100
TZNAME:CET
DTSTART:20251026T010000
END:STANDARD
BEGIN:DAYLIGHT
TZOFFSETFROM:+0100
TZOFFSETTO:+0200
TZNAME:CEST
DTSTART:20260329T010000
END:DAYLIGHT
BEGIN:STANDARD
TZOFFSETFROM:+0200
TZOFFSETTO:+0100
TZNAME:CET
DTSTART:20261025T010000
END:STANDARD
BEGIN:DAYLIGHT
TZOFFSETFROM:+0100
TZOFFSETTO:+0200
TZNAME:CEST
DTSTART:20270328T010000
END:DAYLIGHT
BEGIN:STANDARD
TZOFFSETFROM:+0200
TZOFFSETTO:+0100
TZNAME:CET
DTSTART:20271031T010000
END:STANDARD
BEGIN:DAYLIGHT
TZOFFSETFROM:+0100
TZOFFSETTO:+0200
TZNAME:CEST
DTSTART:20280326T010000
END:DAYLIGHT
BEGIN:STANDARD
TZOFFSETFROM:+0200
TZOFFSETTO:+0100
TZNAME:CET
DTSTART:20281029T010000
END:STANDARD
END:VTIMEZONE
BEGIN:VEVENT
DTSTART;TZID=Europe/Oslo:20250101T080000
DTEND;TZID=Europe/Oslo:20261231T170000
DTSTAMP:20260421T063737
CREATED:20250806T134727Z
LAST-MODIFIED:20250815T102023Z
UID:1898-1735718400-1798736400@venturenet.no
SUMMARY:Oslo Science Park
DESCRIPTION:(PLACE) \n\n\n\nOsloTech AS. “Where Science Meets Business.” Accessed 07.08.2025. https://www.forskningsparken.no/en. \n\n\n\nA vibrant meeting place.\n\n\n\nOslo Science Park is an innovative community where over 3000 people have their daily workplace in more than 300 different companies. We believe that a vibrant environment based on openness\, collaboration\, and sharing is a key to success for our members. \n\n\n\nIn Oslo Science Park\, your company has room to pursue growth. Companies undergoing changes can quickly scale up or down in our premises. Get in touch and let us know your company needs.
URL:https://venturenet.no/all/oslo-science-park/
LOCATION:Oslo Science Park\, Gaustadalléen 21\, Oslo\, 0349\, Norway
CATEGORIES:Hubs,Venue,Workspaces
ATTACH;FMTTYPE=image/jpeg:https://venturenet.no/wp-content/uploads/sites/38/2025/08/e9c6f38bcf39902a17383a5667650da5.jpg
END:VEVENT
BEGIN:VEVENT
DTSTART;TZID=Europe/Oslo:20250101T080000
DTEND;TZID=Europe/Oslo:20261231T170000
DTSTAMP:20260421T063737
CREATED:20250806T135040Z
LAST-MODIFIED:20250815T102017Z
UID:1901-1735718400-1798736400@venturenet.no
SUMMARY:Bright House
DESCRIPTION:(PLACE) \n\n\n\nMustad Næringspark. “Bright House.” Accessed 07.08.2025. https://brighthouse.no. \n\n\n\nBright House vil forsøke å styrke og utvikle det eksisterende samarbeidet i regionen. Vi ønsker å samle flere aktører på et og samme sted og koordinere de ulike behovene som finnes – og greier vi det vil vi alle komme sterkere ut av det. Her skal vi samle det beste vi har av innovasjons- og gründermiljøer i regionen\, målet er å skape nye ideer og verktøy for globale markedet\, akkurat slik Mathias Topp gjorde med sin fiskekrokmaskin for 140 år siden. \n\n\n\n\nBright House skal være et samlingssted for studenter og næringsliv\n\n\n\nBright House vil bidra til å skape flere arbeidsplasser gjennom nye oppstartsbedrifter og prosjekter\n\n\n\nBright House vil utvikle eksisterende næringsliv slik at de vokser og forblir attraktive\n\n\n\nBright House vil skape et miljø for innovasjon\n\n\n\n\nEr du nysgjerrig på bygget? Vil du ha din arbeidsplass i historiske lokaler? Vil du være med på å skape en kultur og et miljø for innovasjon i regionen vår? \n\n\n\nKom innom eller ta kontakt med oss!
URL:https://venturenet.no/all/bright-house/
LOCATION:Bright House\, Raufossvegen 40\, Gjøvik\, 2821\, Norway
CATEGORIES:Workspaces
ATTACH;FMTTYPE=image/png:https://venturenet.no/wp-content/uploads/sites/38/2025/08/images-5.png
END:VEVENT
BEGIN:VEVENT
DTSTART;TZID=Europe/Oslo:20250101T080000
DTEND;TZID=Europe/Oslo:20261231T170000
DTSTAMP:20260421T063737
CREATED:20250806T135329Z
LAST-MODIFIED:20250815T102011Z
UID:1906-1735718400-1798736400@venturenet.no
SUMMARY:Hub LHMR
DESCRIPTION:(PLACE) \n\n\n\nLillehammer-regionen Vekst. “Hub LHMR”. Accessed 11.08.2025. https://www.hublhmr.no. \n\n\n\nHubLHMR er et kontorfellesskap og entreprenørskapssenter midt i Lillehammer sentrum. Hub’en er for gründere\, nystartede bedrifter\, pendlere og andre som ikke er avhengige av et lukket kontor. Her få du energi av å omgås andre som vil utvikle sin bedrift! \n\n\n\nEt medlemskap i HubLHMR inkluderer bruk av fleksible kontorarbeidsplasser for ulike behov. Medlemmene har tilgang til næringsutviklingsressurser fra Lillehammer-regionen Vekst og Skåppå og en rekke aktiviteter for kompetanseheving og organisasjonsutvikling.
URL:https://venturenet.no/all/hub-lhmr/
LOCATION:Hub LMHR\, Jernbanegata 13\, Lillehammer\, 2609\, Norway
CATEGORIES:Workspaces
ATTACH;FMTTYPE=image/avif:https://venturenet.no/wp-content/uploads/sites/38/2025/08/Hublhmr.png.avif
END:VEVENT
BEGIN:VEVENT
DTSTART;TZID=Europe/Oslo:20250101T080000
DTEND;TZID=Europe/Oslo:20261231T170000
DTSTAMP:20260421T063737
CREATED:20250806T135734Z
LAST-MODIFIED:20250815T102003Z
UID:1912-1735718400-1798736400@venturenet.no
SUMMARY:Mesh Community\, Oslo
DESCRIPTION:(PLACE) \n\n\n\nMesh Community AS. “Mesh Community”. Accessed 11.08.2025. https://meshcommunity.com. \n\n\n\nFrom Key Nordic cities\, our community supports every stage of the entrepreneurial journey\, from startups to international success. \n\n\n\n\nOur Nordic Locations\n\n\n\n\nWith more than 5.000 members and over 100.000 annual users\, we are one of the largest startup communities in the Nordic region. \n\n\n\nOur goal is to create the best startup locations\, valuable recruiting and funding services to accelerate the Nordic startup scene. \n\n\n\nWe offer high-end event spaces\, a bar and café\, flexible workspaces\, a lounge\, and private offices – all designed to inspire creativity and collaboration.
URL:https://venturenet.no/all/mesh-community-oslo/
LOCATION:Mesh Youngstorget\, Møllergate 6\, Oslo\, 0179\, Norway
CATEGORIES:Hubs,Places,Venue,Workspaces
ATTACH;FMTTYPE=image/webp:https://venturenet.no/wp-content/uploads/sites/38/2025/08/Mesh_Community_logo_black_RGB.png-scaled.webp
END:VEVENT
BEGIN:VEVENT
DTSTART;TZID=Europe/Oslo:20250101T080000
DTEND;TZID=Europe/Oslo:20261231T170000
DTSTAMP:20260421T063737
CREATED:20250811T130334Z
LAST-MODIFIED:20250815T101953Z
UID:1800-1735718400-1798736400@venturenet.no
SUMMARY:Park Hamar
DESCRIPTION:(PLACE) \n\n\n\nHamarregionen. “The space to create”. 07.08.2025. https://parkhamar.no/park-space-to-create/. \n\n\n\nPARK business and startup house is an ecosystem and community specializing in technologies such as VR\, AR and game development. \n\n\n\nThe startup ecosystem of the Oslo Region grows at an exponential rate\, and the region is on track to become an increasingly powerful change engine for the Norwegian and European economy. \n\n\n\nThe Hamar Region area is part of the greater Oslo Region and located close to the city of Oslo – just over 1 hour by car or train. The Region has a diverse and exciting business community that is strong and thriving\, offering excellent opportunities for those who wish to start their own business.
URL:https://venturenet.no/all/park-hamar-2/
LOCATION:Park Hamar\, Grønnegata 85\, Hamar\, 2317\, Norway
CATEGORIES:Hubs,Places,Workspaces
ATTACH;FMTTYPE=image/png:https://venturenet.no/wp-content/uploads/sites/38/2025/08/PARK-Hamar_2021-01-04-231707_3a27bd6fb958778258fc2a4acf92d847.png
ORGANIZER;CN="Hamarregionen":MAILTO:post@hamarregionen.no
END:VEVENT
BEGIN:VEVENT
DTSTART;TZID=Europe/Oslo:20250101T080000
DTEND;TZID=Europe/Oslo:20261231T170000
DTSTAMP:20260421T063737
CREATED:20250814T125054Z
LAST-MODIFIED:20250815T101939Z
UID:2190-1735718400-1798736400@venturenet.no
SUMMARY:Norway Health Tech
DESCRIPTION:(NETWORK) \n\n\n\nNorway Health Tech. “Norway Health Tech”. Accessed 14.08.2025. https://www.norwayhealthtech.com/en. \n\n\n\nConnecting minds\, transforming health\n\n\n\nWe are Norway’s leading health cluster.Norway Health Tech brings together more than 350 organizations – companies\, investors\, healthcare providers\, municipalities\, academia\, and research institutions. Together\, we drive growth in the health industry and accelerate innovation in healthcare – for the benefit of patients and citizens. \n\n\n\nWould you like to be part of a leading health innovation environment?\n\n\n\nGet in touch – we’re here to connect stakeholders and help pave the way for the healthcare system of tomorrow.
URL:https://venturenet.no/all/norway-health-tech/
LOCATION:Oslo Science Park\, Gaustadalléen 21\, Oslo\, 0349\, Norway
CATEGORIES:Clusters,Network
ATTACH;FMTTYPE=image/webp:https://venturenet.no/wp-content/uploads/sites/38/2025/08/NHT-logo.webp
END:VEVENT
BEGIN:VEVENT
DTSTART;TZID=Europe/Oslo:20250101T080000
DTEND;TZID=Europe/Oslo:20261231T170000
DTSTAMP:20260421T063737
CREATED:20250814T131020Z
LAST-MODIFIED:20250815T101931Z
UID:2219-1735718400-1798736400@venturenet.no
SUMMARY:North European Cybersecurity Cluster
DESCRIPTION:(NETWORK) \n\n\n\nNECC. “NECC.” Accessed 14.08.2025. https://necc.network. \n\n\n\nThe North European Cybersecurity Cluster (NECC) promotes information security and cybersecurity-related cooperation and collaboration in the Northern European region in order to enhance integration into the European Digital Single Market. \n\n\n\nThe NECC has created a trusted competence network with various tested collaboration models among companies\, academia\, public sector and end-users. The cluster-type collaboration model is beneficial for all participating stakeholders and supports the EU’s contractual Public Private Partnership (cPPP). \n\n\n\nThe NECC will be working towards more compelling business\, cybersecurity and research environment for attracting more investments\, resources and new innovation into the region.
URL:https://venturenet.no/all/north-european-cybersecurity-cluster/
CATEGORIES:Clusters,Network
ATTACH;FMTTYPE=image/png:https://venturenet.no/wp-content/uploads/sites/38/2025/08/cropped-necc-logo-c-e1612952772503-2.png
ORGANIZER;CN="North European Cybersecurity Cluster":MAILTO:reijo.savola@gmail.com
END:VEVENT
BEGIN:VEVENT
DTSTART;TZID=Europe/Oslo:20250501T080000
DTEND;TZID=Europe/Oslo:20270501T170000
DTSTAMP:20260421T063737
CREATED:20250813T135915Z
LAST-MODIFIED:20250815T101850Z
UID:2148-1746086400-1809190800@venturenet.no
SUMMARY:RIVCircular
DESCRIPTION:(PROJECT) \n\n\n\nRIVCircular. “RIVCircular.” Accessed 14.08.2025. https://www.rivcircular.eu. \n\n\n\nRIVCircular is part of the European Innovation Valleys (RIV) initiative under the Horizon Europe Program (Pillar III – European Innovation Ecosystems) and is coordinated by the Community of Madrid. \n\n\n\nThe project adopts a holistic approach to the circular economy\, promoting interregional cooperation and knowledge exchange to drive sustainable innovation. \n\n\n\nAligned with the New European Innovation Agenda’s flagship goal of accelerating and strengthening innovation across EU ecosystems while bridging the innovation divide\, RIVCircular fosters collaboration among six European regions: southern (Madrid)\, central (Hauts-de-France)\, northern (Innlandet and Brandenburg)\, and eastern (Košice and Kyiv). \n\n\n\nThis project is co-funded by the European Union. Views and opinions expressed are however this of the author(s) only and do no necessarily reflect those of the European Union or European Innovation Council and SMEs Executive Agency (EISMEA). Neither the European Union nor the granting authority can be held responsible for them. Project Nº 101161013.
URL:https://venturenet.no/all/rivcircular/
CATEGORIES:Project,Ventures
ATTACH;FMTTYPE=image/jpeg:https://venturenet.no/wp-content/uploads/sites/38/2025/06/eu_co_funded_en-1.jpg
END:VEVENT
BEGIN:VEVENT
DTSTART;TZID=Europe/Oslo:20251111T090000
DTEND;TZID=Europe/Oslo:20251112T163000
DTSTAMP:20260421T063737
CREATED:20250806T125822Z
LAST-MODIFIED:20250829T043305Z
UID:1857-1762851600-1762965000@venturenet.no
SUMMARY:EHiN 2025
DESCRIPTION:(EVENT) \n\n\n\nEHIN AS. “EHiN 2025”. Accessed 29.08.2025. https://ehin.no/2025/. \n\n\n\nHvorfor delta?\n\n\n\nEHiN (E-Helse i Norge) er Norges ledende konferanse for digitalisering av helsesektoren\, og fokuserer på samspillet mellom helse og teknologi. Her er flere gode grunner til hvorfor du bør delta: \n\n\n\n\nHold deg oppdatert på digitale helsetrender: Ved å delta på EHiN får du tilgang til de nyeste trendene\, innovasjonene og utviklingene innen digital helse. Du vil lære om banebrytende teknologier\, beste praksis og nye trender som former fremtiden for helsevesenet.\n\n\n\nNettverksmuligheter: EHiN tiltrekker seg en mangfoldig gruppe fagfolk\, inkludert helsepersonell\, IT-eksperter\, politikere og næringslivsledere. Dette er en flott mulighet til å nettverke\, utveksle ideer og samarbeide med andre som brenner for å forbedre helsetjenester gjennom teknologi.\n\n\n\nPåvirk fremtidige politiske beslutninger: Ved å delta på EHiN kan du bidra til dialogen om digitalisering av helsevesenet og hjelpe til med å forme de politikker og strategier som vil styre fremtiden for e-helse i Norge og utover.\n\n\n\n\n\nEkspertinnsikt og kunnskapsdeling: Konferansen har presentasjoner\, paneldiskusjoner og workshops ledet av anerkjente eksperter på feltet. Du vil få verdifulle innsikter fra deres erfaringer og forskning\, som kan hjelpe deg å implementere effektive digitale helseløsninger i din egen organisasjon.\n\n\n\nVis frem innovasjon: Hvis du jobber med innovative digitale helseprosjekter\, gir EHiN en plattform til å vise frem arbeidet ditt\, få tilbakemeldinger og potensielt tiltrekke deg partnerskap eller investeringer for å videreutvikle dine initiativer.\n\n\n\nProfesjonell utvikling: Deltakelse på EHiN kan forbedre dine profesjonelle ferdigheter og kunnskap\, og holde deg konkurransedyktig i det stadig utviklende feltet helse- og teknologi.
URL:https://venturenet.no/all/ehin-2025/
LOCATION:X Meeting Point\, Kragerudveien 50\, Skjetten\, 2013\, Norway
CATEGORIES:Conferences,Events
ATTACH;FMTTYPE=image/jpeg:https://venturenet.no/wp-content/uploads/sites/38/2025/08/channels4_profile.jpg
END:VEVENT
BEGIN:VEVENT
DTSTART;TZID=Europe/Oslo:20251118T080000
DTEND;TZID=Europe/Oslo:20251119T170000
DTSTAMP:20260421T063737
CREATED:20250814T123409Z
LAST-MODIFIED:20250815T101103Z
UID:2189-1763452800-1763571600@venturenet.no
SUMMARY:NTNU CCIS and SFI NORCICS Joint Conference 2025
DESCRIPTION:(EVENT) \n\n\n\nNTNU. “NTNU CCIS and SFI NORCICS Joint Conference 2025”. Accessed 14.08.2025.  \n\n\n\nTwo day conference Tuesday November 18th – Wednesday November 19th  \n\n\n\n“Future directions of Cyber Security in the light of Disruptive Technologies” \n\n\n\nWe are entering a new era where disruptive technologies are becoming integral to everyday practices. As these innovations reshape our digital landscape\, it is essential to ensure they are adopted securely and responsibly. \n\n\n\nJoin us for an insightful event that brings together experts from industry\, government\, and academia to explore the future of cyber security. We will discuss how cyber security can be leveraged to enable and safeguard disruptive technologies\, and how this evolution will shape future work within SFI NORCICS and NTNU CCIS. \n\n\n\nLet’s collaborate to define the path forward—where innovation meets resilience. \n\n\n\nMore information on the program will come. This year both days will consist of keynote presentations and group discussions.  \n\n\n\nNote that we plan to start late enough in the morning of November 18th for people to travel to Trondheim on that day.  \n\n\n\nDinner:  \n\n\n\nWe also invite you to a joint dinner on the evening of November 18th at Scandic Lerkendal. Aperitifs will be served from 18:30 and dinner at 19:00.   \n\n\n\nHotel rooms:  \n\n\n\nHotel rooms will be available at Scandic Lerkdendal\, where the conference will take place. Attendees will be responsible to book their own rooms. Please do so through the Scandic website: https://www.scandichotels.com/no. Choose the hotel Scandic Lerkendal and the correct date\, and add the booking code BNTN181125.  \n\n\n\nThe code is available for the dates 17.11 – 19.11. The deadline to use the code for booking is 01.10.25. A reservation can be changed or cancelled up until 18:00 on 01.10.25.  \n\n\n\nThere is no registration fee for the conference\, but external attendees will need to cover their own accommodation and travel.  \n\n\n\nPlease do not hesitate to ask if you have any questions. \n\n\n\nInquiries can be made to SFI NORCICS administrative coordinator Hanne Mari at hanne.m.s.djupdal@ntnu.no or NTNU CCIS administrative coordinator Anne Skeidsvoll Granli at anne.s.granli@ntnu.no.  
URL:https://venturenet.no/all/ntnu-ccis-and-sfi-norcics-joint-conference-2025/
LOCATION:Scandic Lerkendal\, Klæbuveien 127 A\, Trondheim\, 7031\, Norway
CATEGORIES:Conferences,Events
ATTACH;FMTTYPE=image/webp:https://venturenet.no/wp-content/uploads/sites/38/2025/08/NTNU.jpg.webp
END:VEVENT
BEGIN:VEVENT
DTSTART;TZID=Europe/Oslo:20251217T080000
DTEND;TZID=Europe/Oslo:20251218T170000
DTSTAMP:20260421T063737
CREATED:20250813T082826Z
LAST-MODIFIED:20250815T101105Z
UID:2042-1765958400-1766077200@venturenet.no
SUMMARY:EurASc Annual Symposium & Ceremony 2025
DESCRIPTION:(EVENT) \n\n\n\nEuropean Academy of Sciences (EurASc). “EurASc Annual Symposium & Ceremony 2025”. Accessed 12.08.2025. https://www.eurasc.eu/eurasc-annualsymposiumceremony-2025/ \n\n\n\nThe European Academy of Sciences (EurASc) is honoured to announce that its 2025 Symposium and Annual Ceremony will take place at CERN\, the world-renowned European laboratory for particle physics\, on 17–18 December 2025. We are deeply grateful to Dr. Fabiola Gianotti\, Director-General of CERN\, and Dr. Charlotte Lindberg Warakaulle\, Director for International Relations\, for graciously hosting the Academy and welcoming EurASc Fellows to one of the most prestigious research institutions in the world. CERN’s mission is deeply rooted in fundamental science to reveal the mysteries of the origin of the universe and its evolution\, with far-reaching cultural and societal impacts. From the invention of the World Wide Web\, to breakthroughs in medical imaging technologies\, and the foundational work behind quantum computing through Bell’s inequalities — CERN exemplifies how basic science can shape our future.
URL:https://venturenet.no/all/eurasc-annual-symposium-ceremony-2025/
LOCATION:CERN\, Esplanade des Particules 1\, Meyrin\, 1217\, Switzerland
CATEGORIES:Conferences,Events
END:VEVENT
BEGIN:VEVENT
DTSTART;TZID=Europe/Oslo:20260610T080000
DTEND;TZID=Europe/Oslo:20260613T170000
DTSTAMP:20260421T063737
CREATED:20260415T130123Z
LAST-MODIFIED:20260415T130435Z
UID:2551-1781078400-1781370000@venturenet.no
SUMMARY:Kongsberg Agenda
DESCRIPTION:(EVENT) Kongsberg Næringsforum. “Kongsberg Agenda” Accessed 15.04.2026. https://kongsbergagenda.no \n\n\n\nKongsberg Agenda is one of Norway’s largest technology festivals\, and takes place each year in the town of Kongsberg\, which is about one hour’s drive east of Oslo. The festival in 2026 is open and admission is free of charge. The program in 2026 features over 300 events taking place at different venues during the 4 days. Visit the event website to learn more.
URL:https://venturenet.no/all/kongsberg-agenda/
LOCATION:Town of Kongsberg\, Storgata 1\, Kongsberg\, 3612\, Norway
CATEGORIES:Conferences,Events
ATTACH;FMTTYPE=image/webp:https://venturenet.no/wp-content/uploads/sites/38/2026/04/App-Icon.webp
ORGANIZER;CN="Kongsberg N%C3%A6ringsforum":MAILTO:post@knf.kongsberg.no
END:VEVENT
END:VCALENDAR