BEGIN:VCALENDAR
VERSION:2.0
PRODID:-//VentureNet - ECPv6.15.17.1//NONSGML v1.0//EN
CALSCALE:GREGORIAN
METHOD:PUBLISH
X-ORIGINAL-URL:https://venturenet.no
X-WR-CALDESC:Events for VentureNet
REFRESH-INTERVAL;VALUE=DURATION:PT1H
X-Robots-Tag:noindex
X-PUBLISHED-TTL:PT1H
BEGIN:VTIMEZONE
TZID:Europe/Oslo
BEGIN:DAYLIGHT
TZOFFSETFROM:+0100
TZOFFSETTO:+0200
TZNAME:CEST
DTSTART:20240331T010000
END:DAYLIGHT
BEGIN:STANDARD
TZOFFSETFROM:+0200
TZOFFSETTO:+0100
TZNAME:CET
DTSTART:20241027T010000
END:STANDARD
BEGIN:DAYLIGHT
TZOFFSETFROM:+0100
TZOFFSETTO:+0200
TZNAME:CEST
DTSTART:20250330T010000
END:DAYLIGHT
BEGIN:STANDARD
TZOFFSETFROM:+0200
TZOFFSETTO:+0100
TZNAME:CET
DTSTART:20251026T010000
END:STANDARD
BEGIN:DAYLIGHT
TZOFFSETFROM:+0100
TZOFFSETTO:+0200
TZNAME:CEST
DTSTART:20260329T010000
END:DAYLIGHT
BEGIN:STANDARD
TZOFFSETFROM:+0200
TZOFFSETTO:+0100
TZNAME:CET
DTSTART:20261025T010000
END:STANDARD
BEGIN:DAYLIGHT
TZOFFSETFROM:+0100
TZOFFSETTO:+0200
TZNAME:CEST
DTSTART:20270328T010000
END:DAYLIGHT
BEGIN:STANDARD
TZOFFSETFROM:+0200
TZOFFSETTO:+0100
TZNAME:CET
DTSTART:20271031T010000
END:STANDARD
END:VTIMEZONE
BEGIN:VEVENT
DTSTART;TZID=Europe/Oslo:20251104T180000
DTEND;TZID=Europe/Oslo:20251104T200000
DTSTAMP:20260423T001029
CREATED:20250919T084826Z
LAST-MODIFIED:20250919T085500Z
UID:2525-1762279200-1762286400@venturenet.no
SUMMARY:Evening reception at the Embassy of Finland in Oslo
DESCRIPTION:(EVENT) In connection with the North European Cyber Days\, the Embassy of Finland in Oslo is organising an evening networking reception for conference organisers and partners.  \n\n\n\nAttendance is by invitation only due to the limited capacity of approximately 40 guests.  \n\n\n\nBuilding on previous Nordic Collaboration events\, this evening reception will provide an opportunity for partners from industry\, finance\, research\, and public sector to further explore some of Europe’s leading initiatives aimed at developing competitive\, secure\, and “trustworthy” digital technologies. \n\n\n\nThe high-level conference\, supported by the European Cyber Security Organization (ECSO)\, North European Cybersecurity Cluster (NECC) and the National Cybersecurity Coordination Centers (NCCs) of the Nordic and Baltic Regions\, will bring together key stakeholders from cybersecurity\, artificial intelligence and critical sectors to foster collaboration on innovation\, investment\, procurement\, and export initiatives. \n\n\n\nFollowing arrivals and registration\, the program will include a 45-minute session of presentations\, followed by a 60-minute buffet dinner to facilitate networking.  \n\n\n\nRegister for the reception using the event registration link and we will contact you with confirmation details.  \n\n\n\nEvent Webpage:  North European Cyber Days 2025. \n\n\n\nRegistration Link: https://nettskjema.no/a/north-european-cyber-days-2025  
URL:https://venturenet.no/all/evening-reception-at-the-embassy-of-finland-in-oslo/
LOCATION:Ambassadors residence\, Thomas Heftyes g. 3\, Oslo\, 0244
CATEGORIES:Conferences,Events,North European Collaboration,Social / networking
ATTACH;FMTTYPE=image/png:https://venturenet.no/wp-content/uploads/sites/38/2025/03/North-European-Cyber-Days.png
END:VEVENT
BEGIN:VEVENT
DTSTART;TZID=Europe/Oslo:20251111T090000
DTEND;TZID=Europe/Oslo:20251112T163000
DTSTAMP:20260423T001029
CREATED:20250806T125822Z
LAST-MODIFIED:20250829T043305Z
UID:1857-1762851600-1762965000@venturenet.no
SUMMARY:EHiN 2025
DESCRIPTION:(EVENT) \n\n\n\nEHIN AS. “EHiN 2025”. Accessed 29.08.2025. https://ehin.no/2025/. \n\n\n\nHvorfor delta?\n\n\n\nEHiN (E-Helse i Norge) er Norges ledende konferanse for digitalisering av helsesektoren\, og fokuserer på samspillet mellom helse og teknologi. Her er flere gode grunner til hvorfor du bør delta: \n\n\n\n\nHold deg oppdatert på digitale helsetrender: Ved å delta på EHiN får du tilgang til de nyeste trendene\, innovasjonene og utviklingene innen digital helse. Du vil lære om banebrytende teknologier\, beste praksis og nye trender som former fremtiden for helsevesenet.\n\n\n\nNettverksmuligheter: EHiN tiltrekker seg en mangfoldig gruppe fagfolk\, inkludert helsepersonell\, IT-eksperter\, politikere og næringslivsledere. Dette er en flott mulighet til å nettverke\, utveksle ideer og samarbeide med andre som brenner for å forbedre helsetjenester gjennom teknologi.\n\n\n\nPåvirk fremtidige politiske beslutninger: Ved å delta på EHiN kan du bidra til dialogen om digitalisering av helsevesenet og hjelpe til med å forme de politikker og strategier som vil styre fremtiden for e-helse i Norge og utover.\n\n\n\n\n\nEkspertinnsikt og kunnskapsdeling: Konferansen har presentasjoner\, paneldiskusjoner og workshops ledet av anerkjente eksperter på feltet. Du vil få verdifulle innsikter fra deres erfaringer og forskning\, som kan hjelpe deg å implementere effektive digitale helseløsninger i din egen organisasjon.\n\n\n\nVis frem innovasjon: Hvis du jobber med innovative digitale helseprosjekter\, gir EHiN en plattform til å vise frem arbeidet ditt\, få tilbakemeldinger og potensielt tiltrekke deg partnerskap eller investeringer for å videreutvikle dine initiativer.\n\n\n\nProfesjonell utvikling: Deltakelse på EHiN kan forbedre dine profesjonelle ferdigheter og kunnskap\, og holde deg konkurransedyktig i det stadig utviklende feltet helse- og teknologi.
URL:https://venturenet.no/all/ehin-2025/
LOCATION:X Meeting Point\, Kragerudveien 50\, Skjetten\, 2013\, Norway
CATEGORIES:Conferences,Events
ATTACH;FMTTYPE=image/jpeg:https://venturenet.no/wp-content/uploads/sites/38/2025/08/channels4_profile.jpg
END:VEVENT
BEGIN:VEVENT
DTSTART;TZID=Europe/Oslo:20251118T080000
DTEND;TZID=Europe/Oslo:20251119T170000
DTSTAMP:20260423T001029
CREATED:20250814T123409Z
LAST-MODIFIED:20250815T101103Z
UID:2189-1763452800-1763571600@venturenet.no
SUMMARY:NTNU CCIS and SFI NORCICS Joint Conference 2025
DESCRIPTION:(EVENT) \n\n\n\nNTNU. “NTNU CCIS and SFI NORCICS Joint Conference 2025”. Accessed 14.08.2025.  \n\n\n\nTwo day conference Tuesday November 18th – Wednesday November 19th  \n\n\n\n“Future directions of Cyber Security in the light of Disruptive Technologies” \n\n\n\nWe are entering a new era where disruptive technologies are becoming integral to everyday practices. As these innovations reshape our digital landscape\, it is essential to ensure they are adopted securely and responsibly. \n\n\n\nJoin us for an insightful event that brings together experts from industry\, government\, and academia to explore the future of cyber security. We will discuss how cyber security can be leveraged to enable and safeguard disruptive technologies\, and how this evolution will shape future work within SFI NORCICS and NTNU CCIS. \n\n\n\nLet’s collaborate to define the path forward—where innovation meets resilience. \n\n\n\nMore information on the program will come. This year both days will consist of keynote presentations and group discussions.  \n\n\n\nNote that we plan to start late enough in the morning of November 18th for people to travel to Trondheim on that day.  \n\n\n\nDinner:  \n\n\n\nWe also invite you to a joint dinner on the evening of November 18th at Scandic Lerkendal. Aperitifs will be served from 18:30 and dinner at 19:00.   \n\n\n\nHotel rooms:  \n\n\n\nHotel rooms will be available at Scandic Lerkdendal\, where the conference will take place. Attendees will be responsible to book their own rooms. Please do so through the Scandic website: https://www.scandichotels.com/no. Choose the hotel Scandic Lerkendal and the correct date\, and add the booking code BNTN181125.  \n\n\n\nThe code is available for the dates 17.11 – 19.11. The deadline to use the code for booking is 01.10.25. A reservation can be changed or cancelled up until 18:00 on 01.10.25.  \n\n\n\nThere is no registration fee for the conference\, but external attendees will need to cover their own accommodation and travel.  \n\n\n\nPlease do not hesitate to ask if you have any questions. \n\n\n\nInquiries can be made to SFI NORCICS administrative coordinator Hanne Mari at hanne.m.s.djupdal@ntnu.no or NTNU CCIS administrative coordinator Anne Skeidsvoll Granli at anne.s.granli@ntnu.no.  
URL:https://venturenet.no/all/ntnu-ccis-and-sfi-norcics-joint-conference-2025/
LOCATION:Scandic Lerkendal\, Klæbuveien 127 A\, Trondheim\, 7031\, Norway
CATEGORIES:Conferences,Events
ATTACH;FMTTYPE=image/webp:https://venturenet.no/wp-content/uploads/sites/38/2025/08/NTNU.jpg.webp
END:VEVENT
BEGIN:VEVENT
DTSTART;TZID=Europe/Oslo:20251217T080000
DTEND;TZID=Europe/Oslo:20251218T170000
DTSTAMP:20260423T001029
CREATED:20250813T082826Z
LAST-MODIFIED:20250815T101105Z
UID:2042-1765958400-1766077200@venturenet.no
SUMMARY:EurASc Annual Symposium & Ceremony 2025
DESCRIPTION:(EVENT) \n\n\n\nEuropean Academy of Sciences (EurASc). “EurASc Annual Symposium & Ceremony 2025”. Accessed 12.08.2025. https://www.eurasc.eu/eurasc-annualsymposiumceremony-2025/ \n\n\n\nThe European Academy of Sciences (EurASc) is honoured to announce that its 2025 Symposium and Annual Ceremony will take place at CERN\, the world-renowned European laboratory for particle physics\, on 17–18 December 2025. We are deeply grateful to Dr. Fabiola Gianotti\, Director-General of CERN\, and Dr. Charlotte Lindberg Warakaulle\, Director for International Relations\, for graciously hosting the Academy and welcoming EurASc Fellows to one of the most prestigious research institutions in the world. CERN’s mission is deeply rooted in fundamental science to reveal the mysteries of the origin of the universe and its evolution\, with far-reaching cultural and societal impacts. From the invention of the World Wide Web\, to breakthroughs in medical imaging technologies\, and the foundational work behind quantum computing through Bell’s inequalities — CERN exemplifies how basic science can shape our future.
URL:https://venturenet.no/all/eurasc-annual-symposium-ceremony-2025/
LOCATION:CERN\, Esplanade des Particules 1\, Meyrin\, 1217\, Switzerland
CATEGORIES:Conferences,Events
END:VEVENT
BEGIN:VEVENT
DTSTART;TZID=Europe/Oslo:20260610T080000
DTEND;TZID=Europe/Oslo:20260613T170000
DTSTAMP:20260423T001029
CREATED:20260415T130123Z
LAST-MODIFIED:20260415T130435Z
UID:2551-1781078400-1781370000@venturenet.no
SUMMARY:Kongsberg Agenda
DESCRIPTION:(EVENT) Kongsberg Næringsforum. “Kongsberg Agenda” Accessed 15.04.2026. https://kongsbergagenda.no \n\n\n\nKongsberg Agenda is one of Norway’s largest technology festivals\, and takes place each year in the town of Kongsberg\, which is about one hour’s drive east of Oslo. The festival in 2026 is open and admission is free of charge. The program in 2026 features over 300 events taking place at different venues during the 4 days. Visit the event website to learn more.
URL:https://venturenet.no/all/kongsberg-agenda/
LOCATION:Town of Kongsberg\, Storgata 1\, Kongsberg\, 3612\, Norway
CATEGORIES:Conferences,Events
ATTACH;FMTTYPE=image/webp:https://venturenet.no/wp-content/uploads/sites/38/2026/04/App-Icon.webp
ORGANIZER;CN="Kongsberg N%C3%A6ringsforum":MAILTO:post@knf.kongsberg.no
END:VEVENT
END:VCALENDAR