BEGIN:VCALENDAR
VERSION:2.0
PRODID:-//VentureNet - ECPv6.15.17.1//NONSGML v1.0//EN
CALSCALE:GREGORIAN
METHOD:PUBLISH
X-WR-CALNAME:VentureNet
X-ORIGINAL-URL:https://venturenet.no
X-WR-CALDESC:Events for VentureNet
REFRESH-INTERVAL;VALUE=DURATION:PT1H
X-Robots-Tag:noindex
X-PUBLISHED-TTL:PT1H
BEGIN:VTIMEZONE
TZID:Europe/Oslo
BEGIN:DAYLIGHT
TZOFFSETFROM:+0100
TZOFFSETTO:+0200
TZNAME:CEST
DTSTART:20190331T010000
END:DAYLIGHT
BEGIN:STANDARD
TZOFFSETFROM:+0200
TZOFFSETTO:+0100
TZNAME:CET
DTSTART:20191027T010000
END:STANDARD
BEGIN:DAYLIGHT
TZOFFSETFROM:+0100
TZOFFSETTO:+0200
TZNAME:CEST
DTSTART:20200329T010000
END:DAYLIGHT
BEGIN:STANDARD
TZOFFSETFROM:+0200
TZOFFSETTO:+0100
TZNAME:CET
DTSTART:20201025T010000
END:STANDARD
BEGIN:DAYLIGHT
TZOFFSETFROM:+0100
TZOFFSETTO:+0200
TZNAME:CEST
DTSTART:20210328T010000
END:DAYLIGHT
BEGIN:STANDARD
TZOFFSETFROM:+0200
TZOFFSETTO:+0100
TZNAME:CET
DTSTART:20211031T010000
END:STANDARD
BEGIN:DAYLIGHT
TZOFFSETFROM:+0100
TZOFFSETTO:+0200
TZNAME:CEST
DTSTART:20220327T010000
END:DAYLIGHT
BEGIN:STANDARD
TZOFFSETFROM:+0200
TZOFFSETTO:+0100
TZNAME:CET
DTSTART:20221030T010000
END:STANDARD
BEGIN:DAYLIGHT
TZOFFSETFROM:+0100
TZOFFSETTO:+0200
TZNAME:CEST
DTSTART:20230326T010000
END:DAYLIGHT
BEGIN:STANDARD
TZOFFSETFROM:+0200
TZOFFSETTO:+0100
TZNAME:CET
DTSTART:20231029T010000
END:STANDARD
BEGIN:DAYLIGHT
TZOFFSETFROM:+0100
TZOFFSETTO:+0200
TZNAME:CEST
DTSTART:20240331T010000
END:DAYLIGHT
BEGIN:STANDARD
TZOFFSETFROM:+0200
TZOFFSETTO:+0100
TZNAME:CET
DTSTART:20241027T010000
END:STANDARD
BEGIN:DAYLIGHT
TZOFFSETFROM:+0100
TZOFFSETTO:+0200
TZNAME:CEST
DTSTART:20250330T010000
END:DAYLIGHT
BEGIN:STANDARD
TZOFFSETFROM:+0200
TZOFFSETTO:+0100
TZNAME:CET
DTSTART:20251026T010000
END:STANDARD
BEGIN:DAYLIGHT
TZOFFSETFROM:+0100
TZOFFSETTO:+0200
TZNAME:CEST
DTSTART:20260329T010000
END:DAYLIGHT
BEGIN:STANDARD
TZOFFSETFROM:+0200
TZOFFSETTO:+0100
TZNAME:CET
DTSTART:20261025T010000
END:STANDARD
BEGIN:DAYLIGHT
TZOFFSETFROM:+0100
TZOFFSETTO:+0200
TZNAME:CEST
DTSTART:20270328T010000
END:DAYLIGHT
BEGIN:STANDARD
TZOFFSETFROM:+0200
TZOFFSETTO:+0100
TZNAME:CET
DTSTART:20271031T010000
END:STANDARD
BEGIN:DAYLIGHT
TZOFFSETFROM:+0100
TZOFFSETTO:+0200
TZNAME:CEST
DTSTART:20280326T010000
END:DAYLIGHT
BEGIN:STANDARD
TZOFFSETFROM:+0200
TZOFFSETTO:+0100
TZNAME:CET
DTSTART:20281029T010000
END:STANDARD
BEGIN:DAYLIGHT
TZOFFSETFROM:+0100
TZOFFSETTO:+0200
TZNAME:CEST
DTSTART:20290325T010000
END:DAYLIGHT
BEGIN:STANDARD
TZOFFSETFROM:+0200
TZOFFSETTO:+0100
TZNAME:CET
DTSTART:20291028T010000
END:STANDARD
END:VTIMEZONE
BEGIN:VEVENT
DTSTART;TZID=Europe/Oslo:20200901T080000
DTEND;TZID=Europe/Oslo:20281231T170000
DTSTAMP:20260421T050847
CREATED:20250814T121916Z
LAST-MODIFIED:20250815T102517Z
UID:855-1598947200-1861894800@venturenet.no
SUMMARY:Norwegian Centre for Cybersecurity in Critical Sectors
DESCRIPTION:(NETWORK) (PROJECT) \n\n\n\nNTNU SFI NORCICS. “NORCICS”. Accessed 14.08.2025. https://www.ntnu.edu/norcics. \n\n\n\n\n\n\n\nCentre for Research-based Innovation (SFI)\n\n\n\nNORCICS’s vision is to contribute to making Norway the most securely digitalized country in the world\, by improving the cyber security and resilience of its critical sectors\, through supporting research-based innovation. \n\n\n\nOur primary objective is to enhance the capability of private and public sector stakeholders to respond to the current and future cybersecurity risks by developing\, validating\, and operationalizing innovative socio-technical solutions. \n\n\n\nThe following secondary objectives will lead to the achievement of the primary objective above: \n\n\n\n\nTo generate new knowledge about interdependencies and dynamics in Critical Sectors; and how Cyber Physical Systems especially in Critical Sectors can be attacked;\n\n\n\nTo design\, develop\, and test innovative methods and tools for the detection\, prevention\, and mitigation of cyberattacks against industrial control systems in Critical Sectors\, and to validate these in industrially relevant environments;\n\n\n\nTo demonstrate and validate the efficiency and effectiveness of interlinked cybersecurity measures for control systems in Critical Sectors for selected industrially relevant environments;\n\n\n\nTo develop novel methods and tools for the improvement of cybersecurity training and awareness\, and means for validation of such methods;\n\n\n\nTo effectively transfer the knowledge created within NORCICS among its user partners\, sectoral and industrial clusters\, and relevant stakeholders in Norway.\n\n\n\n\nNORCICS has the following work packages (WP): \n\n\n\n\nResearch-based innovation roadmap\n\n\n\nFoundations\n\n\n\nTechnologies\, applications\, and services\n\n\n\nDemonstration environments\n\n\n\nDissemination and knowledge transfer\n\n\n\nProject management
URL:https://venturenet.no/all/norwegian-centre-for-cybersecurity-in-critical-sectors/
CATEGORIES:Clusters,Network
ATTACH;FMTTYPE=image/jpeg:https://venturenet.no/wp-content/uploads/sites/38/2025/08/1612779978151-2.jpeg
END:VEVENT
BEGIN:VEVENT
DTSTART;TZID=Europe/Oslo:20210301T080000
DTEND;TZID=Europe/Oslo:20260228T170000
DTSTAMP:20260421T050847
CREATED:20250813T143007Z
LAST-MODIFIED:20250815T102455Z
UID:2141-1614585600-1772298000@venturenet.no
SUMMARY:AI-Mind: Artificial Intelligence for Dementia Prevention
DESCRIPTION:(PROJECT) \n\n\n\nAccelopment Schweiz AG. “AI-Mind”. Accessed 13.08.2025. https://www.ai-mind.eu. \n\n\n\nThis project has received funding from the European Union’s Horizon 2020 research and innovation programme under grant agreement No 964220. This website reflects only the author’s view and the Commission is not responsible for any use that may be made of the information it contains. \n\n\n\nWhat is the challenge?\n\n\n\nThere are over 50 million people worldwide living with dementia and by 2030 this number is expected to reach 82 million. \n\n\n\nThe ageing brain becomes vulnerable to decline and keeping independency in daily life can become a challenge for the elderly. People with Mild Cognitive Impairment (MCI)\, an intermediate condition between normal brain ageing and dementia\, may develop dementia in the future. \n\n\n\nThere is an urgent need for early risk assessment and intervention. Current practices with time-consuming patient investigations focus on late symptoms management  due to a lack of diagnostic tools. This causes numerous implications in terms of familial\, medical and care costs. \n\n\n\nWith AI-Mind we aim to reduce the disease’s burden by developing novel\, AI-based tools to support healthcare professionals in their diagnosis and offering timely interventions to patients. \n\n\n\nAt the heart of AI-Mind is our research study\, that\n\n\n\nTakes place in Norway\, Finland\, Italy and Spain and will involve 1\,000 participants.  \n\n\n\nHelps to develop and validate artificial intelligence (AI) based tools to predict who is likely to develop dementia. \n\n\n\nThe AI-Mind project aims to ease the burden of dementia by creating innovative\, AI-driven tools that assist healthcare professionals in predicting dementia risks in patients affected by mild cognitive impairment (MCI). Most dementia treatments focus on managing symptoms once they appear\, leaving little room for early prevention. AI-Mind seeks to transform this process by replacing complex and inefficient screening methods with advanced\, automated tools powered by AI. These tools will address the critical need for early and precise diagnosis\, allowing doctors to identify patients at high risk of developing dementia with greater confidence.
URL:https://venturenet.no/all/ai-mind-artificial-intelligence-for-dementia-prevention/
CATEGORIES:Initiatives,Project,Ventures
ATTACH;FMTTYPE=image/jpeg:https://venturenet.no/wp-content/uploads/sites/38/2025/06/eu_co_funded_en-1.jpg
END:VEVENT
BEGIN:VEVENT
DTSTART;TZID=Europe/Oslo:20220303T080000
DTEND;TZID=Europe/Oslo:20261231T170000
DTSTAMP:20260421T050847
CREATED:20250814T133653Z
LAST-MODIFIED:20250815T102436Z
UID:2223-1646294400-1798736400@venturenet.no
SUMMARY:European Cluster for Securing Critical Infrastructures (ECSCI)
DESCRIPTION:(NETWORK) \n\n\n\nECSCI. “ECSCI”. Accessed 14.08.2025. https://www.ecsci.eu. \n\n\n\nThe main objective of the ECSCI cluster is to create synergies and foster emerging disruptive solutions to security issues via cross-projects collaboration and innovation. Research activities will focus on how to protect critical infrastructures and services\, highlighting the different approaches between the clustered projects and establishing tight and productive connections with closely related and complementary EU funded projects. To promote the activities of the cluster\, ECSCI will organize international conferences\, and national or international workshops\, involving both policy makers\, industry and academic\, practitioners\, and representatives from the European Commission.  
URL:https://venturenet.no/all/european-cluster-for-securing-critical-infrastructures-ecsci/
CATEGORIES:Clusters,Network
ATTACH;FMTTYPE=image/png:https://venturenet.no/wp-content/uploads/sites/38/2025/08/EcsciCluster_v4-1.png
END:VEVENT
BEGIN:VEVENT
DTSTART;TZID=Europe/Oslo:20220901T080000
DTEND;TZID=Europe/Oslo:20261231T170000
DTSTAMP:20260421T050847
CREATED:20250813T143745Z
LAST-MODIFIED:20250815T102405Z
UID:2142-1662019200-1798736400@venturenet.no
SUMMARY:EBRAINS: A Research Infrastructure to Advance Neuroscience and Brain Health
DESCRIPTION:(PROJECT) \n\n\n\nEBRAINS. “EBRAINS.” Accessed 13.08.2025. https://www.ebrains.eu. \n\n\n\nEBRAINS is an international non-profit association (AISBL)\, headquartered in Brussels\, Belgium. It is made up of 8 Full Members and 35 Associate Members. The Research Infrastructure is organised around a central hub that coordinates a pan-European network of services delivered through National Nodes. EBRAINS is governed by three bodies\, the General Assembly\, the Governing Board and the Management Board. A National Node Board gathers Node representatives. EBRAINS also has two Advisory Committees\, the Science and Technology one and the Ethics and Society one which will soon be instated. EBRAINS is funded by the Horizon Europe Framework Programme. \n\n\n\nA state-of-the-art ecosystem for neuroscience\n\n\n\nEBRAINS is on a mission to revolutionise how neuroscience is conducted. The digital ecosystem that we provide enables advances in brain research that translate to innovations in neuroscience\, healthcare and technology. \n\n\n\nTowards a European Brain Partnership to accelerate scientific\, technological\, and societal needs.\n\n\n\nEBRAINS’ ambition is to enable breakthroughs in different areas of brain science. We are proud to be part of several game-changing projects and initiatives\, in which we join forces with leading institutions to achieve tangible results and outcomes. If you’re interested in working with us on specific projects\, different possibilities exist. Don’t hesitate to contact us for more information. \n\n\n\nEBRAINS is organised around a central hub that coordinates a pan-European network of services that are delivered through national nodes.
URL:https://venturenet.no/all/ebrains-a-research-infrastructure-to-advance-neuroscience-and-brain-health/
CATEGORIES:Clusters,Initiatives,Network,Project,Ventures
ATTACH;FMTTYPE=image/jpeg:https://venturenet.no/wp-content/uploads/sites/38/2025/06/eu_co_funded_en-1.jpg
END:VEVENT
BEGIN:VEVENT
DTSTART;TZID=Europe/Oslo:20230101T080000
DTEND;TZID=Europe/Oslo:20251231T170000
DTSTAMP:20260421T050847
CREATED:20250813T145729Z
LAST-MODIFIED:20250815T102324Z
UID:2144-1672560000-1767200400@venturenet.no
SUMMARY:FAME: Federated decentralized trusted dAta Marketplace for Embedded finance
DESCRIPTION:(PROJECT) \n\n\n\nFAME. “FAME.” Accessed 13.08.2025. https://www.fame-horizon.eu. \n\n\n\nFAME is a joint effort of world-class experts in data management\, data technologies\, the data economy\, and digital finance\, aiming to develop and launch to the global market a unique\, trustworthy\, energy-efficient\, and secure federated data marketplace for Embedded Finance (EmFi). \n\n\n\n​The FAME project has received funding from the European Union’s Horizon 2023 Research and Innovation Programe under grant agreement nª 101092639. Views and opinions expressed are however those of the author(s) only and do not necessarily reflect those of the European Union or Horizon Europe. Neither the European Union nor the granting authority can be held responsible for them. \n\n\n\nMarketplace\n\n\n\nThe FAME Federated Data Marketplace for Embedded Finance is a Data Space\, according to the definition of the EU\, customized for buying and selling federated data assets in the financial sector. \n\n\n\nAccessible through a unified entry point\, the Marketplace allows for secure data access\, sharing\, trading and analysis through FAME’s analytical tools for both finance and non-finance organizations\, tech and non-tech users\, and other end-users. \n\n\n\nWhy FAME?\n\n\n\nModern data marketplaces are transforming how data assets are shared\, traded\, and utilized. Recent European initiatives have made significant strides\, particularly in enhancing data monetization\, regulatory compliance\, and secure data exchange. However\, existing centralized marketplaces face challenges that limit broader participation and accessibility. Notable limitations include complex data discovery processes\, limited transparency in value-based data monetization\, and insufficient integration of trusted\, energy-efficient analytics. Addressing these gaps can unlock new data-driven applications in sectors like finance\, retail\, and smart cities\, empowering innovative services that seamlessly integrate financial data. That is where FAME comes in.
URL:https://venturenet.no/all/fame-federated-decentralized-trusted-data-marketplace-for-embedded-finance/
ATTACH;FMTTYPE=image/jpeg:https://venturenet.no/wp-content/uploads/sites/38/2025/06/eu_co_funded_en-1.jpg
END:VEVENT
BEGIN:VEVENT
DTSTART;TZID=Europe/Oslo:20230901T080000
DTEND;TZID=Europe/Oslo:20260830T170000
DTSTAMP:20260421T050847
CREATED:20250813T141208Z
LAST-MODIFIED:20250815T102236Z
UID:2145-1693555200-1788109200@venturenet.no
SUMMARY:ENFIELD: European Lighthouse to Manifest Trustworthy and Green AI
DESCRIPTION:(PROJECT) \n\n\n\nNTNU. “ENFIELD”. Accessed 13.08.2025. https://enfield-project.eu. \n\n\n\nENFIELD is set to establish a distinctive European Center of Excellence focused on advancing fundamental research in Green\, Adaptive\, Human-Centric\, and Trustworthy AI and applied research within key sectors like Energy\, Healthcare\, Manufacturing\, and Space.  Promoted by 30 leading research institutions\, businesses\, and public sector representatives from 18 countries\, the project builds a vibrant AI community of the brightest minds from across Europe.  ENFIELD network will deliver over 75 unique AI solutions\, 180 high-impact publications\, strategic documents and extensive outreach efforts.  \n\n\n\nOur Mission\n\n\n\nOur goal is to develop AI solutions that address challenges in sectors such as healthcare\, energy\, manufacturing\, and space\, while promoting sustainability and ethics.  \n\n\n\nThe ENFIELD Project is co-funded by the European Union. Views and opinions expressed are however those of the author(s) only and do not necessarily reflect those of the European Union or DG CNECT. Neither the European Union nor the granting authority can be held responsible for them.  The University of Nottingham’s participation in the Horizon Europe Project ENFIELD is supported by UKRI grant number 10094603. 
URL:https://venturenet.no/all/enfield-european-lighthouse-to-manifest-trustworthy-and-green-ai/
CATEGORIES:Clusters,Initiatives,Network,Project,Ventures
ATTACH;FMTTYPE=image/jpeg:https://venturenet.no/wp-content/uploads/sites/38/2025/06/eu_co_funded_en-1.jpg
END:VEVENT
BEGIN:VEVENT
DTSTART;TZID=Europe/Oslo:20231001T080000
DTEND;TZID=Europe/Oslo:20260930T170000
DTSTAMP:20260421T050847
CREATED:20250813T145007Z
LAST-MODIFIED:20250815T102211Z
UID:2143-1696147200-1790787600@venturenet.no
SUMMARY:Data Space for Smart and Sustainable Communities
DESCRIPTION:(PROJECT) \n\n\n\nEuropean data space for smart communities (DS4SSCC-DEP). “DS4SSCC”. Accessed 13.08.2025. https://www.ds4sscc.eu/home. \n\n\n\nDS4SSCC–DEP is funded by the European Union Digital Europe Work Programme 2021-2022 under Grant Agreement No. 101123342. Views and opinions expressed are however those of the author(s) only and do not necessarily reflect those of the European Union or the European Commission. Neither the European Union nor the European Commission can be held responsible for them. \n\n\n\nThe European Data Space for Smart Communities (DS4SSCC-DEP) initiative is a pivotal deployment following the preparatory action for a Data Space for Sustainable and Smart Cities and Communities (DS4SSCC). Emphasising sustainability aspects and diversity in communities\, DS4SSCC developed a multi-stakeholder data governance scheme\, created a blueprint for the European DS4SSCC\, delivered priority datasets\, and developed a roadmap towards a mature DS4SSCC. \n\n\n\nDS4SSCC-DEP’s vision revolves around creating a well-governed federated territorial\, place-based data space for smart communities available for developers and infrastructure providers\, aligning with the prospects outlined in Europe’s Digital Decade objectives. This approach distinguishes itself from sectoral data spaces by encompassing diverse domains\, and underpinning governance across all levels of society. \n\n\n\n\nVisit the 11 Pilot Data Spaces Projects in Europe\n\n\n\n\n\nExplore the Data Space Blueprint for Smart Communities
URL:https://venturenet.no/all/data-space-for-smart-and-sustainable-communities/
CATEGORIES:Clusters,Initiatives,Network,Project,Ventures
ATTACH;FMTTYPE=image/jpeg:https://venturenet.no/wp-content/uploads/sites/38/2025/06/eu_co_funded_en-1.jpg
END:VEVENT
BEGIN:VEVENT
DTSTART;TZID=Europe/Oslo:20240101T080000
DTEND;TZID=Europe/Oslo:20271231T170000
DTSTAMP:20260421T050847
CREATED:20250814T135154Z
LAST-MODIFIED:20250815T102159Z
UID:2235-1704096000-1830272400@venturenet.no
SUMMARY:COMFORTage
DESCRIPTION:(PROJECT) \n\n\n\nGrupo Antena. “COMFORTage.” Accessed 14.08.2025. https://comfortage.eu. \n\n\n\nCOMFORTage is a four-year project funded through the European Unión´s Horizon Europe Programme involving 39 organisations from 12 countries. Funded by the European Union (Grant Nº 101137301) and supported by Innovative UK (Grant Nº 10103541) . Views and opinions expressed are however those of the author(s) only and do not necessarily reflect those of the European Union or European Health and Digital Executive Agency (HADEA). Neither the European Union nor the granting authority can be held responsible for them. \n\n\n\nFostering Personalized solutions for prevention of dementia and frailty\n\n\n\nCOMFORTAGE is a joint effort of medical experts\, social scientists and humanists\, technical experts\, Digital Innovation Hubs (DIHs) and Living Labs (LLs) to establish a pan European framework for Community-based\, Integrated and People-Centric prevention\, monitoring and progression managing solutions for dementia and frailty. \n\n\n\nCOMFORTage will developed 13 pilots at 8 EU members states.  The main objective is to supply relevant subjects data on Scientific Technology Options Assessment  (SToA) referred to dementia and frailty detection and intervention and deploy\, validate and evaluate the models and tools in real life new clinical scenarios (Beta Solution Treated and Overaged-BSToA). \n\n\n\nCOMFORTage Virtualized AI-Based Healthcare Platform (VHP)\n\n\n\nThe project will create a first of a kind Virtualized AI-Based Healthcare Platform (VHP) that will centralize access to project’s AI resources for risk factor analysis\, early diagnosis and personalized decision making for age-related mental and physical diseases and disorders. \n\n\n\nPartners\n\n\n\nCOMFORTage strives to establish a pan-European framework for community-based prevention and intervention strategies to facilitate effective lifestyle changes thought the synergies of our Consortium and other stakeholders. Our consortium is compose by: \n\n\n\n\n8 Research Institutions/Universities\n\n\n\n11 Healthcare Organizations & Actors\n\n\n\n12 Industry and SME partners\n\n\n\n4 Social Multipliers and Associations\n\n\n\n4 SSH and Legal Organizations
URL:https://venturenet.no/all/comfortage/
CATEGORIES:Initiatives,Project,Ventures
ATTACH;FMTTYPE=image/svg+xml:https://venturenet.no/wp-content/uploads/sites/38/2025/08/comfortage-positivo-color.svg
END:VEVENT
BEGIN:VEVENT
DTSTART;TZID=Europe/Oslo:20240522T080000
DTEND;TZID=Europe/Oslo:20261201T170000
DTSTAMP:20260421T050847
CREATED:20250813T105503Z
LAST-MODIFIED:20250815T102126Z
UID:2110-1716364800-1796144400@venturenet.no
SUMMARY:Nordic Digital Innovation Ecosystem
DESCRIPTION:(PROJECT) \n\n\n\nThe Nordic Digital Innovation Ecosystem (NDIE) is an ongoing business network development initiative to support development of trustworthy systems and infra- structure in critical sectors by connecting public and private sectors and research institutions and supporting project establishment. \n\n\n\nThe project was initiated in 2024 and managed by Klosser Innovasjon AS and VentureNet AS in collaboration with the Norwegian Computing Center (NR)\, the Norwegian Center for Cybersecurity in Critical Sectors (SFI NORCICS)\, the Institute for Energy Technology (IFE)\, and Smart Innovation Norway\, with financial support from Innlandet County in Norway. \n\n\n\nWithin 5 months of the project’s start\, NDIE organised and executed 9 successful international events\, including some of Norway’s first seminars and webinars on European Data Spaces and a trailblazing 2-day Nordic Matchmaking Event at DNV Headquarters and NR Headquarters in Oslo. \n\n\n\nSome of the speakers included representatives from the Norwegian Digitalisation Agency\, Sykehuspartner\, Det Norske Veritas\, DNV-Nixu\, FICEC\, F-Secure\, Defendable\, Business Finland\, the City of Wien in Austria\, Gaia-X\, and FIWARE. \n\n\n\nVisit the digital platform and video clips on VentureNets Online Marketplace and on Youtube.
URL:https://venturenet.no/all/nordic-digital-innovation-ecosystem/
CATEGORIES:Initiatives,Project,Projects with VentureNet,Ventures
ATTACH;FMTTYPE=image/jpeg:https://venturenet.no/wp-content/uploads/sites/38/2025/04/shutterstock_2468310241_1-scaled.jpg
ORGANIZER;CN="VentureNet":MAILTO:contact@venturenet.no
END:VEVENT
END:VCALENDAR