BEGIN:VCALENDAR
VERSION:2.0
PRODID:-//VentureNet - ECPv6.15.17.1//NONSGML v1.0//EN
CALSCALE:GREGORIAN
METHOD:PUBLISH
X-WR-CALNAME:VentureNet
X-ORIGINAL-URL:https://venturenet.no
X-WR-CALDESC:Events for VentureNet
REFRESH-INTERVAL;VALUE=DURATION:PT1H
X-Robots-Tag:noindex
X-PUBLISHED-TTL:PT1H
BEGIN:VTIMEZONE
TZID:Europe/Oslo
BEGIN:DAYLIGHT
TZOFFSETFROM:+0100
TZOFFSETTO:+0200
TZNAME:CEST
DTSTART:20220327T010000
END:DAYLIGHT
BEGIN:STANDARD
TZOFFSETFROM:+0200
TZOFFSETTO:+0100
TZNAME:CET
DTSTART:20221030T010000
END:STANDARD
BEGIN:DAYLIGHT
TZOFFSETFROM:+0100
TZOFFSETTO:+0200
TZNAME:CEST
DTSTART:20230326T010000
END:DAYLIGHT
BEGIN:STANDARD
TZOFFSETFROM:+0200
TZOFFSETTO:+0100
TZNAME:CET
DTSTART:20231029T010000
END:STANDARD
BEGIN:DAYLIGHT
TZOFFSETFROM:+0100
TZOFFSETTO:+0200
TZNAME:CEST
DTSTART:20240331T010000
END:DAYLIGHT
BEGIN:STANDARD
TZOFFSETFROM:+0200
TZOFFSETTO:+0100
TZNAME:CET
DTSTART:20241027T010000
END:STANDARD
BEGIN:DAYLIGHT
TZOFFSETFROM:+0100
TZOFFSETTO:+0200
TZNAME:CEST
DTSTART:20250330T010000
END:DAYLIGHT
BEGIN:STANDARD
TZOFFSETFROM:+0200
TZOFFSETTO:+0100
TZNAME:CET
DTSTART:20251026T010000
END:STANDARD
BEGIN:DAYLIGHT
TZOFFSETFROM:+0100
TZOFFSETTO:+0200
TZNAME:CEST
DTSTART:20260329T010000
END:DAYLIGHT
BEGIN:STANDARD
TZOFFSETFROM:+0200
TZOFFSETTO:+0100
TZNAME:CET
DTSTART:20261025T010000
END:STANDARD
BEGIN:DAYLIGHT
TZOFFSETFROM:+0100
TZOFFSETTO:+0200
TZNAME:CEST
DTSTART:20270328T010000
END:DAYLIGHT
BEGIN:STANDARD
TZOFFSETFROM:+0200
TZOFFSETTO:+0100
TZNAME:CET
DTSTART:20271031T010000
END:STANDARD
END:VTIMEZONE
BEGIN:VEVENT
DTSTART;TZID=Europe/Oslo:20231001T080000
DTEND;TZID=Europe/Oslo:20260930T170000
DTSTAMP:20260421T074624
CREATED:20250813T145007Z
LAST-MODIFIED:20250815T102211Z
UID:2143-1696147200-1790787600@venturenet.no
SUMMARY:Data Space for Smart and Sustainable Communities
DESCRIPTION:(PROJECT) \n\n\n\nEuropean data space for smart communities (DS4SSCC-DEP). “DS4SSCC”. Accessed 13.08.2025. https://www.ds4sscc.eu/home. \n\n\n\nDS4SSCC–DEP is funded by the European Union Digital Europe Work Programme 2021-2022 under Grant Agreement No. 101123342. Views and opinions expressed are however those of the author(s) only and do not necessarily reflect those of the European Union or the European Commission. Neither the European Union nor the European Commission can be held responsible for them. \n\n\n\nThe European Data Space for Smart Communities (DS4SSCC-DEP) initiative is a pivotal deployment following the preparatory action for a Data Space for Sustainable and Smart Cities and Communities (DS4SSCC). Emphasising sustainability aspects and diversity in communities\, DS4SSCC developed a multi-stakeholder data governance scheme\, created a blueprint for the European DS4SSCC\, delivered priority datasets\, and developed a roadmap towards a mature DS4SSCC. \n\n\n\nDS4SSCC-DEP’s vision revolves around creating a well-governed federated territorial\, place-based data space for smart communities available for developers and infrastructure providers\, aligning with the prospects outlined in Europe’s Digital Decade objectives. This approach distinguishes itself from sectoral data spaces by encompassing diverse domains\, and underpinning governance across all levels of society. \n\n\n\n\nVisit the 11 Pilot Data Spaces Projects in Europe\n\n\n\n\n\nExplore the Data Space Blueprint for Smart Communities
URL:https://venturenet.no/all/data-space-for-smart-and-sustainable-communities/
CATEGORIES:Clusters,Initiatives,Network,Project,Ventures
ATTACH;FMTTYPE=image/jpeg:https://venturenet.no/wp-content/uploads/sites/38/2025/06/eu_co_funded_en-1.jpg
END:VEVENT
BEGIN:VEVENT
DTSTART;TZID=Europe/Oslo:20251021T090000
DTEND;TZID=Europe/Oslo:20251023T141500
DTSTAMP:20260421T074624
CREATED:20250806T124330Z
LAST-MODIFIED:20250815T101340Z
UID:1843-1761037200-1761228900@venturenet.no
SUMMARY:NOKIOS Conference 2025 (ICT in Public Sector)
DESCRIPTION:(EVENT) \n\n\n\nNTNU enhet for konferanser. “NOKIOS”. Accessed 07.08.2025. https://www.nokios.no. \n\n\n\nNorsk konferanse for IKT i offentlig sektor (NOKIOS) er en møteplass for alle aktører som kan bidra til bedre og mer effektive offentlige tjenester i Norge ved god bruk av IKT. I 2025 arrangeres konferansen for 19. gang. \n\n\n\nProgrammet i NOKIOS 2025 bygger på en felles forståelse av at vi navigerer i et digitalt landskap i rask endring. Konferansen tar i bruk kompassmetaforen for å illustrere hvordan offentlig sektor må orientere seg i et komplekst\, dynamisk og usikkert teknologisk og geopolitisk terreng. \n\n\n\nVi ser på digitalisering som en retningsgiver for bedre tjenester\, høyere tillit og en mer effektiv forvaltning.  \n\n\n\nDen røde tråden gjennom konferansen er å bevege seg fra forståelse til handling: Hvordan kan vi ta lærdom fra virkelighetssjokkene vi har opplevd\, fra KI-revolusjonen til geopolitisk uro? \n\n\n\nOg hvordan kan vi omsette dem i konkrete digitale tiltak som styrker offentlig sektor\, og bidra til realiseringen av den nasjonale digitaliseringsstrategien frem mot 2030 – og gjennom dette bidra til et bedre samfunn?
URL:https://venturenet.no/all/nokios-conference-2025-ict-in-public-sector/
LOCATION:Clarion Hotel\, Trondheim\, Brattørkaia 1\, Trondheim\, 7010\, Norway
CATEGORIES:Conferences,Events
ATTACH;FMTTYPE=image/png:https://venturenet.no/wp-content/uploads/sites/38/2025/08/nokios-logo-og-1834-925.png
END:VEVENT
BEGIN:VEVENT
DTSTART;TZID=Europe/Oslo:20251022T170000
DTEND;TZID=Europe/Oslo:20251022T233000
DTSTAMP:20260421T074624
CREATED:20250806T130526Z
LAST-MODIFIED:20250909T055933Z
UID:1861-1761152400-1761175800@venturenet.no
SUMMARY:Nordic Fund Day 2025
DESCRIPTION:(EVENT) \n\n\n\nNordic Edge AS. “Nordic Fund Day Oslo 2025”. Accessed 07.08.2025. https://nordicedge.org/events/nordic-fund-day-oslo-2025. \n\n\n\n🎉 Nordic Fund Day turns 10 — and we’re taking the celebration to Oslo! 🎉 Over 100 Nordic start-ups have already matched with our global investor network. Now it’s your turn 🚀 Applications for start-ups is now open! 🌱 Investors — come meet the founders shaping a better future. Expect energy. Expect impact. Expect Oslo.
URL:https://venturenet.no/all/nordic-fund-day-2025/
LOCATION:Mesh Youngstorget\, Møllergate 6\, Oslo\, 0179\, Norway
CATEGORIES:Events,Experiences,North European Collaboration,Seminar
ATTACH;FMTTYPE=image/webp:https://venturenet.no/wp-content/uploads/sites/38/2025/08/In-collaboration-with-5.png.webp
END:VEVENT
END:VCALENDAR