BEGIN:VCALENDAR
VERSION:2.0
PRODID:-//VentureNet - ECPv6.15.17.1//NONSGML v1.0//EN
CALSCALE:GREGORIAN
METHOD:PUBLISH
X-WR-CALNAME:VentureNet
X-ORIGINAL-URL:https://venturenet.no
X-WR-CALDESC:Events for VentureNet
REFRESH-INTERVAL;VALUE=DURATION:PT1H
X-Robots-Tag:noindex
X-PUBLISHED-TTL:PT1H
BEGIN:VTIMEZONE
TZID:Europe/Oslo
BEGIN:DAYLIGHT
TZOFFSETFROM:+0100
TZOFFSETTO:+0200
TZNAME:CEST
DTSTART:20220327T010000
END:DAYLIGHT
BEGIN:STANDARD
TZOFFSETFROM:+0200
TZOFFSETTO:+0100
TZNAME:CET
DTSTART:20221030T010000
END:STANDARD
BEGIN:DAYLIGHT
TZOFFSETFROM:+0100
TZOFFSETTO:+0200
TZNAME:CEST
DTSTART:20230326T010000
END:DAYLIGHT
BEGIN:STANDARD
TZOFFSETFROM:+0200
TZOFFSETTO:+0100
TZNAME:CET
DTSTART:20231029T010000
END:STANDARD
BEGIN:DAYLIGHT
TZOFFSETFROM:+0100
TZOFFSETTO:+0200
TZNAME:CEST
DTSTART:20240331T010000
END:DAYLIGHT
BEGIN:STANDARD
TZOFFSETFROM:+0200
TZOFFSETTO:+0100
TZNAME:CET
DTSTART:20241027T010000
END:STANDARD
BEGIN:DAYLIGHT
TZOFFSETFROM:+0100
TZOFFSETTO:+0200
TZNAME:CEST
DTSTART:20250330T010000
END:DAYLIGHT
BEGIN:STANDARD
TZOFFSETFROM:+0200
TZOFFSETTO:+0100
TZNAME:CET
DTSTART:20251026T010000
END:STANDARD
BEGIN:DAYLIGHT
TZOFFSETFROM:+0100
TZOFFSETTO:+0200
TZNAME:CEST
DTSTART:20260329T010000
END:DAYLIGHT
BEGIN:STANDARD
TZOFFSETFROM:+0200
TZOFFSETTO:+0100
TZNAME:CET
DTSTART:20261025T010000
END:STANDARD
BEGIN:DAYLIGHT
TZOFFSETFROM:+0100
TZOFFSETTO:+0200
TZNAME:CEST
DTSTART:20270328T010000
END:DAYLIGHT
BEGIN:STANDARD
TZOFFSETFROM:+0200
TZOFFSETTO:+0100
TZNAME:CET
DTSTART:20271031T010000
END:STANDARD
END:VTIMEZONE
BEGIN:VEVENT
DTSTART;TZID=Europe/Oslo:20230120T080000
DTEND;TZID=Europe/Oslo:20231201T170000
DTSTAMP:20260422T210912
CREATED:20250813T113102Z
LAST-MODIFIED:20250815T102245Z
UID:2128-1674201600-1701450000@venturenet.no
SUMMARY:Establishment of a Virtual Innovation Ecosystem
DESCRIPTION:(PROJECT) \n\n\n\nThe virtual regional innovation ecosystem project was a business network development initiative in 2023\, which was managed by VentureNet AS in collaboration with leading innovation ecosystems in the Inland region of Norway (Klosser Innovation AS\, Vaager Innovasjon AS\, and Skåppå AS) and the University of Inland Norway. The project received co-financing from Innlandet County. \n\n\n\nThe project built on results of a previous FORREGION project on regional innovation ecosystems and laid groundwork that contributed to establishment of several projects to develop national and Nordic Innovation Ecosystems with a connections to the Inland Region of Norway and Greater Oslo Region. \n\n\n\nProject results\n\n\n\nThis project created a large national and international partner consortium of innovation actors\, business actors\, research institutions and universities\, which led to the establishment of several project consortia since the start of the project\, and which submitted 9 applications for collaborative projects to the Research Council\, EU ERDF (Interreg)\, and EU Horizon in 2023 alone. \n\n\n\nIn addition\, work is underway to establish 6 large coordination and innovation/development projects in consortia consisting of\, among others\, Klosser Innovasjon\, Vaager Innovasjon\, Skåppå\, Smart Innovation Norway\, the Norwegian Agency for Digitalisation (Digdir)\, NCE Heidner\, NCE Manufacturing\, NCE Smart Energy Markets\, Cluster for Applied AI\, Norway Health Tech\, Rikshospitalet\, University of Oxford\, University of Oslo\, NTNU NORCICS\, SINTEF\, Institute of Energy Technology (IFE)\, Norwegian Computing Centre\, Inland University College\, Østfold University College\, several municipalities\, private business actors\, and foreign innovation actors.  \n\n\n\nResults are described further below related to the effects and continuation of the project. \n\n\n\n1. Replicable ecosystem collaboration model to build stronger regional ecosystems. \n\n\n\n\nWorkshops being planned in 2024 and 2025 with key stakeholders in Innlandet\, Oslo\, Østfold\, Sweden\, Spain and Germany to identify/plan key networking events and conferences with stakeholders and sponsors.\n\n\n\nNetworking events and conferences from June 2024 to interconnect ecosystems\, match businesses and investors.\n\n\n\n\n2. Virtual innovation ecosystem with hubs & nodes for regions and strategic industries. \n\n\n\n\nDigital Infrastructure: open to integration with external systems and fully customizable.\n\n\n\nNetwork: 250+ local key stakeholders identified by Siva-incubators; 30+ European regions in partner network.\n\n\n\nHubs: 10 regional hubs (incl. tourism\, career hubs)\, 6 initial industry hubs\, 14 hubs for Innlandsporteføljen.\n\n\n\n\n3. Plan for Events\, Conference and Projects to interconnect local/regional ecosystems. \n\n\n\n\nConferences: major European “Smart Impact” conference opportunity in 2025-2026.\n\n\n\n4 “Ecosystem” plans (RIV\, Interreg\, EIE\, Hub-Node)to finance workshops\, networking events and conferences.\n\n\n\n12 R&D plans (IPN\, Pilot Helse\, RFF\, EUH\, SFI) with leading R&D institutions in AI and cybersecurity.\n\n\n\n\nWould you like to strengthen the innovation ecosystem in your region?\n\n\n\nContact VentureNet for more information about the project’s results and collaboration opportunities.
URL:https://venturenet.no/all/establishment-of-a-virtual-innovation-ecosystem/
CATEGORIES:Project,Projects with VentureNet,Ventures
ATTACH;FMTTYPE=image/svg+xml:https://venturenet.no/wp-content/uploads/sites/38/2025/06/Innlandet_County_Council_horizontal_pos_RGB.svg
ORGANIZER;CN="VentureNet":MAILTO:contact@venturenet.no
END:VEVENT
BEGIN:VEVENT
DTSTART;TZID=Europe/Oslo:20231001T080000
DTEND;TZID=Europe/Oslo:20260930T170000
DTSTAMP:20260422T210912
CREATED:20250813T145007Z
LAST-MODIFIED:20250815T102211Z
UID:2143-1696147200-1790787600@venturenet.no
SUMMARY:Data Space for Smart and Sustainable Communities
DESCRIPTION:(PROJECT) \n\n\n\nEuropean data space for smart communities (DS4SSCC-DEP). “DS4SSCC”. Accessed 13.08.2025. https://www.ds4sscc.eu/home. \n\n\n\nDS4SSCC–DEP is funded by the European Union Digital Europe Work Programme 2021-2022 under Grant Agreement No. 101123342. Views and opinions expressed are however those of the author(s) only and do not necessarily reflect those of the European Union or the European Commission. Neither the European Union nor the European Commission can be held responsible for them. \n\n\n\nThe European Data Space for Smart Communities (DS4SSCC-DEP) initiative is a pivotal deployment following the preparatory action for a Data Space for Sustainable and Smart Cities and Communities (DS4SSCC). Emphasising sustainability aspects and diversity in communities\, DS4SSCC developed a multi-stakeholder data governance scheme\, created a blueprint for the European DS4SSCC\, delivered priority datasets\, and developed a roadmap towards a mature DS4SSCC. \n\n\n\nDS4SSCC-DEP’s vision revolves around creating a well-governed federated territorial\, place-based data space for smart communities available for developers and infrastructure providers\, aligning with the prospects outlined in Europe’s Digital Decade objectives. This approach distinguishes itself from sectoral data spaces by encompassing diverse domains\, and underpinning governance across all levels of society. \n\n\n\n\nVisit the 11 Pilot Data Spaces Projects in Europe\n\n\n\n\n\nExplore the Data Space Blueprint for Smart Communities
URL:https://venturenet.no/all/data-space-for-smart-and-sustainable-communities/
CATEGORIES:Clusters,Initiatives,Network,Project,Ventures
ATTACH;FMTTYPE=image/jpeg:https://venturenet.no/wp-content/uploads/sites/38/2025/06/eu_co_funded_en-1.jpg
END:VEVENT
END:VCALENDAR